BEGIN:VCALENDAR
VERSION:2.0
PRODID:-//Playa Beach Club - ECPv6.15.17//NONSGML v1.0//EN
CALSCALE:GREGORIAN
METHOD:PUBLISH
X-WR-CALNAME:Playa Beach Club
X-ORIGINAL-URL:https://playa.lu
X-WR-CALDESC:Events for Playa Beach Club
REFRESH-INTERVAL;VALUE=DURATION:PT1H
X-Robots-Tag:noindex
X-PUBLISHED-TTL:PT1H
BEGIN:VTIMEZONE
TZID:Europe/Luxembourg
BEGIN:DAYLIGHT
TZOFFSETFROM:+0100
TZOFFSETTO:+0200
TZNAME:CEST
DTSTART:20240331T010000
END:DAYLIGHT
BEGIN:STANDARD
TZOFFSETFROM:+0200
TZOFFSETTO:+0100
TZNAME:CET
DTSTART:20241027T010000
END:STANDARD
BEGIN:DAYLIGHT
TZOFFSETFROM:+0100
TZOFFSETTO:+0200
TZNAME:CEST
DTSTART:20250330T010000
END:DAYLIGHT
BEGIN:STANDARD
TZOFFSETFROM:+0200
TZOFFSETTO:+0100
TZNAME:CET
DTSTART:20251026T010000
END:STANDARD
BEGIN:DAYLIGHT
TZOFFSETFROM:+0100
TZOFFSETTO:+0200
TZNAME:CEST
DTSTART:20260329T010000
END:DAYLIGHT
BEGIN:STANDARD
TZOFFSETFROM:+0200
TZOFFSETTO:+0100
TZNAME:CET
DTSTART:20261025T010000
END:STANDARD
END:VTIMEZONE
BEGIN:VEVENT
DTSTART;TZID=Europe/Luxembourg:20250705T180000
DTEND;TZID=Europe/Luxembourg:20250706T010000
DTSTAMP:20260424T135157
CREATED:20250531T003539Z
LAST-MODIFIED:20250626T004728Z
UID:7761-1751738400-1751763600@playa.lu
SUMMARY:Barbie Girl Party
DESCRIPTION:Barbie Girl Party @ PLAYA Beach ClubIn cooperation with Night Angel LuxembourgSaturday\, July 5th\, 2025 – Starting at 18h00 \nStep into a world of glamour\, sunshine\, and iconic style as PLAYA Beach Club invites you to the ultimate Barbie Girl Party. \nDress to impress in your best Barbie or Ken-inspired outfit and enjoy an evening filled with: \n\nA free welcome cocktail for all guests in theme-related attire\nTop DJs setting the perfect summer vibe\nLive dancers heating up the beach\nAn exciting tombola with amazing prizes to be won\n\nFrom pink dreams to beachside beats\, this is the event of the summer you won’t want to miss. \nPlease note: the event may be postponed in case of unfavorable weather conditions. Registration is mandatory as it allows us to inform you promptly of any updates or changes.
URL:https://playa.lu/event/barbie-girl-party/
LOCATION:Playa Beach Club\, 105\, rue des Bruyères\, Howald\, 1274\, Luxembourg
CATEGORIES:Special Party
ATTACH;FMTTYPE=image/jpeg:https://playa.lu/wp-content/uploads/2025/05/barbie-party.jpg
ORGANIZER;CN="Playa Beach Club":MAILTO:playa@playa.lu
END:VEVENT
END:VCALENDAR