BEGIN:VCALENDAR
VERSION:2.0
PRODID:-//Playa Beach Club - ECPv6.15.17//NONSGML v1.0//EN
CALSCALE:GREGORIAN
METHOD:PUBLISH
X-ORIGINAL-URL:https://playa.lu
X-WR-CALDESC:Events for Playa Beach Club
REFRESH-INTERVAL;VALUE=DURATION:PT1H
X-Robots-Tag:noindex
X-PUBLISHED-TTL:PT1H
BEGIN:VTIMEZONE
TZID:Europe/Luxembourg
BEGIN:DAYLIGHT
TZOFFSETFROM:+0100
TZOFFSETTO:+0200
TZNAME:CEST
DTSTART:20250330T010000
END:DAYLIGHT
BEGIN:STANDARD
TZOFFSETFROM:+0200
TZOFFSETTO:+0100
TZNAME:CET
DTSTART:20251026T010000
END:STANDARD
BEGIN:DAYLIGHT
TZOFFSETFROM:+0100
TZOFFSETTO:+0200
TZNAME:CEST
DTSTART:20260329T010000
END:DAYLIGHT
BEGIN:STANDARD
TZOFFSETFROM:+0200
TZOFFSETTO:+0100
TZNAME:CET
DTSTART:20261025T010000
END:STANDARD
BEGIN:DAYLIGHT
TZOFFSETFROM:+0100
TZOFFSETTO:+0200
TZNAME:CEST
DTSTART:20270328T010000
END:DAYLIGHT
BEGIN:STANDARD
TZOFFSETFROM:+0200
TZOFFSETTO:+0100
TZNAME:CET
DTSTART:20271031T010000
END:STANDARD
END:VTIMEZONE
BEGIN:VEVENT
DTSTART;TZID=Europe/Luxembourg:20260603T180000
DTEND;TZID=Europe/Luxembourg:20260603T233000
DTSTAMP:20260419T163653
CREATED:20260129T102147Z
LAST-MODIFIED:20260129T103539Z
UID:8405-1780509600-1780529400@playa.lu
SUMMARY:Luxembourg Nightlife Awards Event
DESCRIPTION:Join us for the most electrifying night of 2026 as we celebrate the very best of Luxembourg’s nightlife on June 3\, 2026!\nExpect dazzling performances\, top DJs\, awards\, and unforgettable vibes.\nThis is the night you won’t want to miss! #LNA2026 \nFREE ENTRANCE!\nMore information will follow. \nPlease note: the event may be postponed in case of unfavorable weather conditions.
URL:https://playa.lu/event/luxembourg-nightlife-awards-event/
LOCATION:Playa Beach Club\, 105\, rue des Bruyères\, Howald\, 1274\, Luxembourg
CATEGORIES:Special Party
ATTACH;FMTTYPE=image/png:https://playa.lu/wp-content/uploads/2026/01/LNA-EVENT-2026.png
ORGANIZER;CN="Luxembourg Nightlife Awards":MAILTO:luxnightlifeawards@gmail.com
END:VEVENT
BEGIN:VEVENT
DTSTART;VALUE=DATE:20260613
DTEND;VALUE=DATE:20260614
DTSTAMP:20260419T163653
CREATED:20260112T222403Z
LAST-MODIFIED:20260224T095232Z
UID:8381-1781308800-1781395199@playa.lu
SUMMARY:Sunset Party
DESCRIPTION:Sunset Party at Playa Beach Club organized by RAM Music | 13.06.2026. \nGet ready for an unforgettable evening at Playa Beach Club as we celebrate summer with a vibrant Sunset Party powered by RAM Music. Expect great vibes\, refreshing drinks\, and the perfect beach atmosphere as the sun goes down. \nMore information coming soon – stay tuned! \n 
URL:https://playa.lu/event/ram-event/
LOCATION:Playa Beach Club\, 105\, rue des Bruyères\, Howald\, 1274\, Luxembourg
CATEGORIES:Special Party
ATTACH;FMTTYPE=image/png:https://playa.lu/wp-content/uploads/2026/01/ram-sunset.png
ORGANIZER;CN="Playa Beach Club":MAILTO:playa@playa.lu
END:VEVENT
BEGIN:VEVENT
DTSTART;TZID=Europe/Luxembourg:20260618T180000
DTEND;TZID=Europe/Luxembourg:20260618T233000
DTSTAMP:20260419T163653
CREATED:20260129T110336Z
LAST-MODIFIED:20260129T110336Z
UID:8409-1781805600-1781825400@playa.lu
SUMMARY:LNA Summer Opening
DESCRIPTION:Join us for the most electrifying night of 2026 as we celebrate the very best of Luxembourg’s nightlife on June 18\, 2026!\nExpect dazzling performances\, top DJs\, awards\, and unforgettable vibes.\nThis is the night you won’t want to miss! #LNA2026 \nFREE ENTRANCE!\nMore information will follow. \nPlease note: the event may be postponed in case of unfavorable weather conditions.
URL:https://playa.lu/event/lna-summer-opening/
LOCATION:Playa Beach Club\, 105\, rue des Bruyères\, Howald\, 1274\, Luxembourg
CATEGORIES:Special Party
ATTACH;FMTTYPE=image/png:https://playa.lu/wp-content/uploads/2026/01/LNA-EVENT-2026.png
ORGANIZER;CN="Luxembourg Nightlife Awards":MAILTO:luxnightlifeawards@gmail.com
END:VEVENT
BEGIN:VEVENT
DTSTART;VALUE=DATE:20260619
DTEND;VALUE=DATE:20260620
DTSTAMP:20260419T163653
CREATED:20260112T222812Z
LAST-MODIFIED:20260112T222812Z
UID:8384-1781827200-1781913599@playa.lu
SUMMARY:RAM Event
DESCRIPTION:more information soon….
URL:https://playa.lu/event/ram-event-2/
LOCATION:Playa Beach Club\, 105\, rue des Bruyères\, Howald\, 1274\, Luxembourg
CATEGORIES:Special Party
ATTACH;FMTTYPE=image/png:https://playa.lu/wp-content/uploads/2026/01/playa-event-soon-1.png
END:VEVENT
BEGIN:VEVENT
DTSTART;TZID=Europe/Luxembourg:20260620T180000
DTEND;TZID=Europe/Luxembourg:20260620T233000
DTSTAMP:20260419T163653
CREATED:20260303T051817Z
LAST-MODIFIED:20260303T051817Z
UID:8445-1781978400-1781998200@playa.lu
SUMMARY:Single Night
DESCRIPTION:more information soon\nOrganized by Night Angel Luxembourg
URL:https://playa.lu/event/single-night/
LOCATION:Playa Beach Club\, 105\, rue des Bruyères\, Howald\, 1274\, Luxembourg
CATEGORIES:Special Party
ATTACH;FMTTYPE=image/png:https://playa.lu/wp-content/uploads/2026/03/Celibataires-Playa.png
ORGANIZER;CN="Playa Beach Club":MAILTO:playa@playa.lu
END:VEVENT
BEGIN:VEVENT
DTSTART;TZID=Europe/Luxembourg:20260628T150000
DTEND;TZID=Europe/Luxembourg:20260628T233000
DTSTAMP:20260419T163653
CREATED:20260302T134324Z
LAST-MODIFIED:20260304T112641Z
UID:8439-1782658800-1782689400@playa.lu
SUMMARY:Latino Beach Party
DESCRIPTION:More information coming soon.
URL:https://playa.lu/event/latino-beach-party-playa/
LOCATION:Playa Beach Club\, 105\, rue des Bruyères\, Howald\, 1274\, Luxembourg
CATEGORIES:Special Party
ATTACH;FMTTYPE=image/png:https://playa.lu/wp-content/uploads/2026/01/playa-private-event.png
ORGANIZER;CN="Playa Beach Club":MAILTO:playa@playa.lu
END:VEVENT
BEGIN:VEVENT
DTSTART;TZID=Europe/Luxembourg:20260701T180000
DTEND;TZID=Europe/Luxembourg:20260701T233000
DTSTAMP:20260419T163653
CREATED:20260129T111943Z
LAST-MODIFIED:20260129T111943Z
UID:8411-1782928800-1782948600@playa.lu
SUMMARY:Luxembourg Nightlife Awards Event
DESCRIPTION:Join us for the most electrifying night of 2026 as we celebrate the very best of Luxembourg’s nightlife on July 1\, 2026!\nExpect dazzling performances\, top DJs\, awards\, and unforgettable vibes.\nThis is the night you won’t want to miss! #LNA2026 \nFREE ENTRANCE!\nMore information will follow. \nPlease note: the event may be postponed in case of unfavorable weather conditions.
URL:https://playa.lu/event/luxembourg-nightlife-awards-event-2/
LOCATION:Playa Beach Club\, 105\, rue des Bruyères\, Howald\, 1274\, Luxembourg
CATEGORIES:Special Party
ATTACH;FMTTYPE=image/png:https://playa.lu/wp-content/uploads/2026/01/LNA-EVENT-2026.png
ORGANIZER;CN="Luxembourg Nightlife Awards":MAILTO:luxnightlifeawards@gmail.com
END:VEVENT
BEGIN:VEVENT
DTSTART;TZID=Europe/Luxembourg:20260704T080000
DTEND;TZID=Europe/Luxembourg:20260704T170000
DTSTAMP:20260419T163653
CREATED:20260415T083603Z
LAST-MODIFIED:20260415T083603Z
UID:8465-1783152000-1783184400@playa.lu
SUMMARY:LNA OUT OF TOWN
DESCRIPTION:more information soon….
URL:https://playa.lu/event/lna-out-of-town/
LOCATION:Playa Beach Club\, 105\, rue des Bruyères\, Howald\, 1274\, Luxembourg
CATEGORIES:Special Party
ATTACH;FMTTYPE=image/png:https://playa.lu/wp-content/uploads/2026/01/LNA-EVENT-2026.png
ORGANIZER;CN="Luxembourg Nightlife Awards":MAILTO:luxnightlifeawards@gmail.com
END:VEVENT
BEGIN:VEVENT
DTSTART;TZID=Europe/Luxembourg:20260711T183000
DTEND;TZID=Europe/Luxembourg:20260711T233000
DTSTAMP:20260419T163653
CREATED:20260126T185052Z
LAST-MODIFIED:20260127T035911Z
UID:8399-1783794600-1783812600@playa.lu
SUMMARY:PANAREA EVENT
DESCRIPTION:PANAREA is back at Playa Beach Club for its second summer edition on July 11\, 2026 🌴A sunset moment where beach energy\, music\, and summer spirit come together for an unforgettable night in Luxembourg. \nMore details to follow….
URL:https://playa.lu/event/panarea-event/
LOCATION:Playa Beach Club\, 105\, rue des Bruyères\, Howald\, 1274\, Luxembourg
CATEGORIES:Special Party
ATTACH;FMTTYPE=image/png:https://playa.lu/wp-content/uploads/2026/01/panarea-playa-2026.png
END:VEVENT
BEGIN:VEVENT
DTSTART;VALUE=DATE:20260717
DTEND;VALUE=DATE:20260718
DTSTAMP:20260419T163653
CREATED:20260112T223033Z
LAST-MODIFIED:20260415T083737Z
UID:8386-1784246400-1784332799@playa.lu
SUMMARY:RAM Event
DESCRIPTION:more information soon….
URL:https://playa.lu/event/ram-event-3/
LOCATION:Playa Beach Club\, 105\, rue des Bruyères\, Howald\, 1274\, Luxembourg
CATEGORIES:Special Party
ATTACH;FMTTYPE=image/png:https://playa.lu/wp-content/uploads/2026/01/playa-event-soon-1.png
END:VEVENT
END:VCALENDAR